Name | Last modified | Size | Description | |
---|---|---|---|---|
Parent Directory | - | |||
buildbin-out.txt | 19-Mar-2022 00:07 | 3.7K | ||
buildbin-summary.dcf | 19-Mar-2022 00:07 | 497 | ||
buildsrc-out.txt | 19-Mar-2022 00:07 | 856 | ||
buildsrc-summary.dcf | 19-Mar-2022 00:07 | 440 | ||
checksrc-out.txt | 19-Mar-2022 00:07 | 7.1K | ||
checksrc-summary.dcf | 19-Mar-2022 00:07 | 434 | ||
install-out.txt | 19-Mar-2022 00:07 | 3.8K | ||
install-summary.dcf | 19-Mar-2022 00:07 | 262 | ||