Name | Last modified | Size | Description | |
---|---|---|---|---|
Parent Directory | - | |||
checksrc-out.txt | 19-Mar-2022 00:07 | 5.4K | ||
buildbin-out.txt | 19-Mar-2022 00:07 | 1.5K | ||
install-out.txt | 19-Mar-2022 00:07 | 1.4K | ||
buildsrc-out.txt | 19-Mar-2022 00:07 | 894 | ||
buildbin-summary.dcf | 19-Mar-2022 00:07 | 508 | ||
buildsrc-summary.dcf | 19-Mar-2022 00:07 | 449 | ||
checksrc-summary.dcf | 19-Mar-2022 00:07 | 443 | ||
install-summary.dcf | 19-Mar-2022 00:07 | 266 | ||