Name | Last modified | Size | Description | |
---|---|---|---|---|
Parent Directory | - | |||
install-summary.dcf | 20-Oct-2022 02:20 | 262 | ||
install-out.txt | 20-Oct-2022 02:20 | 945 | ||
checksrc-summary.dcf | 20-Oct-2022 02:20 | 431 | ||
checksrc-out.txt | 20-Oct-2022 02:20 | 4.3K | ||
buildsrc-summary.dcf | 20-Oct-2022 02:20 | 423 | ||
buildsrc-out.txt | 20-Oct-2022 02:20 | 814 | ||