Index of /checkResults/3.15/bioc-LATEST/flowDensity/raw-results/nebbiolo1

[ICO]NameLast modifiedSizeDescription

[DIR]Parent Directory  -  
[TXT]buildsrc-out.txt16-Aug-2022 02:20 1.0K 
[   ]buildsrc-summary.dcf16-Aug-2022 02:20 429  
[TXT]checksrc-out.txt16-Aug-2022 02:20 4.6K 
[   ]checksrc-summary.dcf16-Aug-2022 02:20 445  
[TXT]install-out.txt16-Aug-2022 02:20 1.3K 
[   ]install-summary.dcf16-Aug-2022 02:20 267