Name | Last modified | Size | Description | |
---|---|---|---|---|
Parent Directory | - | |||
buildbin-summary.dcf | 20-Oct-2022 02:22 | 554 | ||
buildbin-out.txt | 20-Oct-2022 02:22 | 1.5K | ||
checksrc-summary.dcf | 20-Oct-2022 02:22 | 466 | ||
checksrc-out.txt | 20-Oct-2022 02:22 | 4.6K | ||
buildsrc-summary.dcf | 20-Oct-2022 02:22 | 439 | ||
buildsrc-out.txt | 20-Oct-2022 02:22 | 1.0K | ||
install-summary.dcf | 20-Oct-2022 02:22 | 277 | ||
install-out.txt | 20-Oct-2022 02:22 | 1.3K | ||