Index of /checkResults/3.15/bioc-LATEST/flowDensity/raw-results/merida1

[ICO]NameLast modifiedSizeDescription

[DIR]Parent Directory  -  
[TXT]buildbin-out.txt11-Aug-2022 04:40 1.5K 
[   ]buildbin-summary.dcf11-Aug-2022 04:40 554  
[TXT]buildsrc-out.txt11-Aug-2022 04:40 1.0K 
[   ]buildsrc-summary.dcf11-Aug-2022 04:40 439  
[TXT]checksrc-out.txt11-Aug-2022 04:40 4.6K 
[   ]checksrc-summary.dcf11-Aug-2022 04:40 466  
[TXT]install-out.txt11-Aug-2022 04:40 1.3K 
[   ]install-summary.dcf11-Aug-2022 04:40 277