Name | Last modified | Size | Description | |
---|---|---|---|---|
Parent Directory | - | |||
buildbin-out.txt | 16-Mar-2022 00:07 | 7.7K | ||
buildbin-summary.dcf | 16-Mar-2022 00:07 | 527 | ||
buildsrc-out.txt | 19-Mar-2022 00:07 | 1.2K | ||
buildsrc-summary.dcf | 19-Mar-2022 00:07 | 375 | ||
checksrc-out.txt | 16-Mar-2022 00:07 | 4.3K | ||
checksrc-summary.dcf | 16-Mar-2022 00:07 | 455 | ||
install-out.txt | 19-Mar-2022 00:07 | 7.6K | ||
install-summary.dcf | 19-Mar-2022 00:07 | 272 | ||