Name | Last modified | Size | Description | |
---|---|---|---|---|
Parent Directory | - | |||
install-summary.dcf | 20-Oct-2022 02:21 | 268 | ||
install-out.txt | 20-Oct-2022 02:21 | 614 | ||
checksrc-summary.dcf | 09-Jul-2022 02:21 | 442 | ||
checksrc-out.txt | 09-Jul-2022 02:21 | 3.2K | ||
buildsrc-summary.dcf | 20-Oct-2022 02:21 | 364 | ||
buildsrc-out.txt | 20-Oct-2022 02:21 | 919 | ||
buildbin-summary.dcf | 09-Jul-2022 02:21 | 508 | ||
buildbin-out.txt | 09-Jul-2022 02:21 | 1.1K | ||