Name | Last modified | Size | Description | |
---|---|---|---|---|
Parent Directory | - | |||
install-summary.dcf | 20-Oct-2022 02:20 | 259 | ||
install-out.txt | 20-Oct-2022 02:20 | 621 | ||
checksrc-summary.dcf | 09-Jul-2022 02:20 | 419 | ||
checksrc-out.txt | 09-Jul-2022 02:20 | 3.1K | ||
buildsrc-summary.dcf | 20-Oct-2022 02:20 | 330 | ||
buildsrc-out.txt | 20-Oct-2022 02:20 | 867 | ||