Name | Last modified | Size | Description | |
---|---|---|---|---|
Parent Directory | - | |||
checksrc-summary.dcf | 20-Oct-2022 02:20 | 419 | ||
checksrc-out.txt | 20-Oct-2022 02:20 | 15K | ||
buildsrc-summary.dcf | 20-Oct-2022 02:20 | 413 | ||
buildsrc-out.txt | 20-Oct-2022 02:20 | 895 | ||
install-summary.dcf | 20-Oct-2022 02:20 | 257 | ||
install-out.txt | 20-Oct-2022 02:20 | 1.3K | ||