![]() | Name | Last modified | Size | Description |
---|---|---|---|---|
![]() | Parent Directory | - | ||
![]() | install-out.txt | 19-Mar-2022 00:07 | 1.5K | |
![]() | install-summary.dcf | 19-Mar-2022 00:07 | 263 | |
![]() | buildsrc-out.txt | 19-Mar-2022 00:07 | 917 | |
![]() | buildsrc-summary.dcf | 19-Mar-2022 00:07 | 438 | |
![]() | checksrc-out.txt | 19-Mar-2022 00:07 | 4.1K | |
![]() | checksrc-summary.dcf | 19-Mar-2022 00:07 | 435 | |
![]() | buildbin-out.txt | 19-Mar-2022 00:07 | 1.5K | |
![]() | buildbin-summary.dcf | 19-Mar-2022 00:07 | 497 | |