![]() | Name | Last modified | Size | Description |
---|---|---|---|---|
![]() | Parent Directory | - | ||
![]() | install-summary.dcf | 20-Oct-2022 02:21 | 262 | |
![]() | checksrc-summary.dcf | 20-Oct-2022 02:21 | 435 | |
![]() | buildsrc-summary.dcf | 20-Oct-2022 02:21 | 439 | |
![]() | buildbin-summary.dcf | 20-Oct-2022 02:21 | 498 | |
![]() | buildsrc-out.txt | 20-Oct-2022 02:21 | 917 | |
![]() | install-out.txt | 20-Oct-2022 02:21 | 962 | |
![]() | buildbin-out.txt | 20-Oct-2022 02:21 | 1.1K | |
![]() | checksrc-out.txt | 20-Oct-2022 02:21 | 4.1K | |