![]() | Name | Last modified | Size | Description |
---|---|---|---|---|
![]() | Parent Directory | - | ||
![]() | buildsrc-out.txt | 20-Oct-2022 02:20 | 889 | |
![]() | buildsrc-summary.dcf | 20-Oct-2022 02:20 | 408 | |
![]() | checksrc-out.txt | 20-Oct-2022 02:20 | 4.1K | |
![]() | checksrc-summary.dcf | 20-Oct-2022 02:20 | 412 | |
![]() | install-out.txt | 20-Oct-2022 02:20 | 946 | |
![]() | install-summary.dcf | 20-Oct-2022 02:20 | 253 | |