![]() | Name | Last modified | Size | Description |
---|---|---|---|---|
![]() | Parent Directory | - | ||
![]() | install-out.txt | 19-Mar-2022 00:07 | 2.6K | |
![]() | install-summary.dcf | 19-Mar-2022 00:07 | 276 | |
![]() | buildsrc-out.txt | 19-Mar-2022 00:07 | 896 | |
![]() | buildsrc-summary.dcf | 19-Mar-2022 00:07 | 468 | |
![]() | checksrc-out.txt | 19-Mar-2022 00:07 | 3.4K | |
![]() | checksrc-summary.dcf | 19-Mar-2022 00:07 | 469 | |
![]() | buildbin-out.txt | 19-Mar-2022 00:07 | 2.6K | |
![]() | buildbin-summary.dcf | 19-Mar-2022 00:07 | 539 | |