![]() | Name | Last modified | Size | Description |
---|---|---|---|---|
![]() | Parent Directory | - | ||
![]() | install-summary.dcf | 20-Oct-2022 02:20 | 267 | |
![]() | buildsrc-summary.dcf | 20-Oct-2022 02:20 | 429 | |
![]() | checksrc-summary.dcf | 20-Oct-2022 02:20 | 446 | |
![]() | buildsrc-out.txt | 20-Oct-2022 02:20 | 862 | |
![]() | install-out.txt | 20-Oct-2022 02:20 | 1.3K | |
![]() | checksrc-out.txt | 20-Oct-2022 02:20 | 3.4K | |