![]() | Name | Last modified | Size | Description |
---|---|---|---|---|
![]() | Parent Directory | - | ||
![]() | buildbin-out.txt | 20-Oct-2022 02:22 | 1.6K | |
![]() | buildbin-summary.dcf | 20-Oct-2022 02:22 | 554 | |
![]() | buildsrc-out.txt | 20-Oct-2022 02:22 | 872 | |
![]() | buildsrc-summary.dcf | 20-Oct-2022 02:22 | 439 | |
![]() | checksrc-out.txt | 20-Oct-2022 02:22 | 3.4K | |
![]() | checksrc-summary.dcf | 20-Oct-2022 02:22 | 466 | |
![]() | install-out.txt | 20-Oct-2022 02:22 | 1.3K | |
![]() | install-summary.dcf | 20-Oct-2022 02:22 | 277 | |