Name | Last modified | Size | Description | |
---|---|---|---|---|
Parent Directory | - | |||
buildbin-summary.dcf | 20-Oct-2022 02:22 | 560 | ||
buildbin-out.txt | 20-Oct-2022 02:22 | 1.6K | ||
checksrc-out.txt | 20-Oct-2022 02:22 | 3.5K | ||
checksrc-summary.dcf | 20-Oct-2022 02:22 | 464 | ||
buildsrc-summary.dcf | 20-Oct-2022 02:22 | 443 | ||
buildsrc-out.txt | 20-Oct-2022 02:22 | 1.3K | ||
install-summary.dcf | 20-Oct-2022 02:22 | 279 | ||
install-out.txt | 20-Oct-2022 02:22 | 1.4K | ||