Back to Multiple platform build/check report for BioC 3.15
ABCD[E]FGHIJKLMNOPQRSTUVWXYZ

This page was generated on 2022-05-20 12:05:16 -0400 (Fri, 20 May 2022).

HostnameOSArch (*)R versionInstalled pkgs
nebbiolo1Linux (Ubuntu 20.04.4 LTS)x86_644.2.0 (2022-04-22) -- "Vigorous Calisthenics" 4380
palomino3Windows Server 2022 Datacenterx644.2.0 (2022-04-22 ucrt) -- "Vigorous Calisthenics" 4155
merida1macOS 10.14.6 Mojavex86_644.2.0 (2022-04-22) -- "Vigorous Calisthenics" 4221
Click on any hostname to see more info about the system (e.g. compilers)      (*) as reported by 'uname -p', except on Windows and Mac OS X

BUILD results for epivizrChart on nebbiolo1


To the developers/maintainers of the epivizrChart package:
- Please allow up to 24 hours (and sometimes 48 hours) for your latest push to git@git.bioconductor.org:packages/epivizrChart.git to
reflect on this report. See How and When does the builder pull? When will my changes propagate? for more information.
- Make sure to use the following settings in order to reproduce any error or warning you see on this page.

raw results

Package 617/2140HostnameOS / ArchINSTALLBUILDCHECKBUILD BIN
epivizrChart 1.18.0  (landing page)
Hector Corrada Bravo
Snapshot Date: 2022-05-19 13:55:15 -0400 (Thu, 19 May 2022)
git_url: https://git.bioconductor.org/packages/epivizrChart
git_branch: RELEASE_3_15
git_last_commit: f58d55b
git_last_commit_date: 2022-04-26 11:42:01 -0400 (Tue, 26 Apr 2022)
nebbiolo1Linux (Ubuntu 20.04.4 LTS) / x86_64  OK    OK    OK  UNNEEDED, same version is already published
palomino3Windows Server 2022 Datacenter / x64  OK    OK    OK    OK  UNNEEDED, same version is already published
merida1macOS 10.14.6 Mojave / x86_64  OK    OK    OK    OK  UNNEEDED, same version is already published

Summary

Package: epivizrChart
Version: 1.18.0
Command: /home/biocbuild/bbs-3.15-bioc/R/bin/R CMD build --keep-empty-dirs --no-resave-data epivizrChart
StartedAt: 2022-05-19 16:22:44 -0400 (Thu, 19 May 2022)
EndedAt: 2022-05-19 16:24:33 -0400 (Thu, 19 May 2022)
EllapsedTime: 109.5 seconds
RetCode: 0
Status:   OK  
PackageFile: epivizrChart_1.18.0.tar.gz
PackageFileSize: 5.303 MiB

Command output

##############################################################################
##############################################################################
###
### Running command:
###
###   /home/biocbuild/bbs-3.15-bioc/R/bin/R CMD build --keep-empty-dirs --no-resave-data epivizrChart
###
##############################################################################
##############################################################################


* checking for file ‘epivizrChart/DESCRIPTION’ ... OK
* preparing ‘epivizrChart’:
* checking DESCRIPTION meta-information ... OK
* installing the package to build vignettes
* creating vignettes ... OK
* checking for LF line-endings in source and make files and shell scripts
* checking for empty or unneeded directories
  NB: this package now depends on R (>= 3.5.0)
  WARNING: Added dependency on R >= 3.5.0 because serialized objects in
  serialize/load version 3 cannot be read in older versions of R.
  File(s) containing such objects:
    ‘epivizrChart/data/cgi_gr.rda’ ‘epivizrChart/data/sumexp.rda’
    ‘epivizrChart/data/tcga_colon_blocks.rda’
    ‘epivizrChart/data/tcga_colon_curves.rda’
    ‘epivizrChart/data/tcga_colon_expression.rda’
* building ‘epivizrChart_1.18.0.tar.gz’