Name | Last modified | Size | Description | |
---|---|---|---|---|
Parent Directory | - | |||
buildbin-out.txt | 19-Mar-2022 00:07 | 1.9K | ||
buildbin-summary.dcf | 19-Mar-2022 00:07 | 517 | ||
buildsrc-out.txt | 19-Mar-2022 00:07 | 903 | ||
buildsrc-summary.dcf | 19-Mar-2022 00:07 | 454 | ||
checksrc-out.txt | 19-Mar-2022 00:07 | 3.1K | ||
checksrc-summary.dcf | 19-Mar-2022 00:07 | 449 | ||
install-out.txt | 19-Mar-2022 00:07 | 2.0K | ||
install-summary.dcf | 19-Mar-2022 00:07 | 270 | ||