Name | Last modified | Size | Description | |
---|---|---|---|---|
Parent Directory | - | |||
install-summary.dcf | 20-Oct-2022 02:21 | 268 | ||
install-out.txt | 20-Oct-2022 02:21 | 623 | ||
checksrc-summary.dcf | 09-Jul-2022 02:21 | 443 | ||
checksrc-out.txt | 09-Jul-2022 02:21 | 3.5K | ||
buildsrc-summary.dcf | 20-Oct-2022 02:21 | 364 | ||
buildsrc-out.txt | 20-Oct-2022 02:21 | 927 | ||
buildbin-summary.dcf | 09-Jul-2022 02:21 | 507 | ||
buildbin-out.txt | 09-Jul-2022 02:21 | 1.1K | ||