![]() | Name | Last modified | Size | Description |
---|---|---|---|---|
![]() | Parent Directory | - | ||
![]() | install-summary.dcf | 16-Aug-2022 02:20 | 259 | |
![]() | install-out.txt | 16-Aug-2022 02:20 | 630 | |
![]() | checksrc-summary.dcf | 09-Jul-2022 02:20 | 420 | |
![]() | checksrc-out.txt | 09-Jul-2022 02:20 | 3.4K | |
![]() | buildsrc-summary.dcf | 16-Aug-2022 02:20 | 330 | |
![]() | buildsrc-out.txt | 16-Aug-2022 02:20 | 877 | |