Index of /checkResults/3.15/bioc-LATEST/epihet/raw-results/merida1

[ICO]NameLast modifiedSizeDescription

[DIR]Parent Directory  -  
[TXT]buildbin-out.txt02-Jul-2022 01:07 1.1K 
[   ]buildbin-summary.dcf02-Jul-2022 01:07 524  
[TXT]buildsrc-out.txt02-Jul-2022 01:07 875  
[   ]buildsrc-summary.dcf02-Jul-2022 01:07 423  
[TXT]checksrc-out.txt02-Jul-2022 01:07 3.5K 
[   ]checksrc-summary.dcf02-Jul-2022 01:07 440  
[TXT]install-out.txt02-Jul-2022 01:07 1.0K 
[   ]install-summary.dcf02-Jul-2022 01:07 267