![]() | Name | Last modified | Size | Description |
---|---|---|---|---|
![]() | Parent Directory | - | ||
![]() | install-summary.dcf | 19-Mar-2022 00:07 | 274 | |
![]() | checksrc-summary.dcf | 19-Mar-2022 00:07 | 459 | |
![]() | buildsrc-summary.dcf | 19-Mar-2022 00:07 | 464 | |
![]() | buildbin-summary.dcf | 19-Mar-2022 00:07 | 533 | |
![]() | buildsrc-out.txt | 19-Mar-2022 00:07 | 1.2K | |
![]() | buildbin-out.txt | 19-Mar-2022 00:07 | 2.3K | |
![]() | install-out.txt | 19-Mar-2022 00:07 | 2.3K | |
![]() | checksrc-out.txt | 19-Mar-2022 00:07 | 3.2K | |