Name | Last modified | Size | Description | |
---|---|---|---|---|
Parent Directory | - | |||
buildbin-out.txt | 23-Feb-2022 01:07 | 51K | ||
buildbin-summary.dcf | 23-Feb-2022 01:07 | 530 | ||
buildsrc-out.txt | 19-Mar-2022 00:07 | 48K | ||
buildsrc-summary.dcf | 19-Mar-2022 00:07 | 376 | ||
checksrc-out.txt | 23-Feb-2022 01:07 | 7.8K | ||
checksrc-summary.dcf | 23-Feb-2022 01:07 | 461 | ||
install-out.txt | 19-Mar-2022 00:07 | 47K | ||
install-summary.dcf | 19-Mar-2022 00:07 | 276 | ||