Index of /checkResults/3.15/bioc-LATEST/epialleleR/raw-results/merida1

[ICO]NameLast modifiedSizeDescription

[DIR]Parent Directory  -  
[TXT]buildbin-out.txt16-Aug-2022 02:22 7.4K 
[   ]buildbin-summary.dcf16-Aug-2022 02:22 546  
[TXT]buildsrc-out.txt16-Aug-2022 02:22 857  
[   ]buildsrc-summary.dcf16-Aug-2022 02:22 435  
[TXT]checksrc-out.txt16-Aug-2022 02:22 4.5K 
[   ]checksrc-summary.dcf16-Aug-2022 02:22 454  
[TXT]install-out.txt16-Aug-2022 02:22 6.5K 
[   ]install-summary.dcf16-Aug-2022 02:22 275