Index of /checkResults/3.15/bioc-LATEST/dupRadar/raw-results
Name
Last modified
Size
Description
Parent Directory
-
nebbiolo1/
20-Oct-2022 02:20
-
info.dcf
20-Oct-2022 02:22
317
merida1/
20-Oct-2022 02:22
-