Name | Last modified | Size | Description | |
---|---|---|---|---|
Parent Directory | - | |||
checksrc-out.txt | 20-Oct-2022 02:20 | 7.9K | ||
install-out.txt | 20-Oct-2022 02:20 | 944 | ||
buildsrc-out.txt | 20-Oct-2022 02:20 | 802 | ||
checksrc-summary.dcf | 20-Oct-2022 02:20 | 426 | ||
buildsrc-summary.dcf | 20-Oct-2022 02:20 | 413 | ||
install-summary.dcf | 20-Oct-2022 02:20 | 257 | ||