![]() | Name | Last modified | Size | Description |
---|---|---|---|---|
![]() | Parent Directory | - | ||
![]() | buildbin-out.txt | 19-Mar-2022 00:07 | 1.8K | |
![]() | buildbin-summary.dcf | 19-Mar-2022 00:07 | 512 | |
![]() | buildsrc-out.txt | 19-Mar-2022 00:07 | 898 | |
![]() | buildsrc-summary.dcf | 19-Mar-2022 00:07 | 450 | |
![]() | checksrc-out.txt | 19-Mar-2022 00:07 | 4.0K | |
![]() | checksrc-summary.dcf | 19-Mar-2022 00:07 | 445 | |
![]() | install-out.txt | 19-Mar-2022 00:07 | 1.7K | |
![]() | install-summary.dcf | 19-Mar-2022 00:07 | 267 | |