![]() | Name | Last modified | Size | Description |
---|---|---|---|---|
![]() | Parent Directory | - | ||
![]() | buildbin-out.txt | 20-Oct-2022 02:21 | 1.1K | |
![]() | buildbin-summary.dcf | 20-Oct-2022 02:21 | 512 | |
![]() | buildsrc-out.txt | 20-Oct-2022 02:21 | 898 | |
![]() | buildsrc-summary.dcf | 20-Oct-2022 02:21 | 450 | |
![]() | checksrc-out.txt | 20-Oct-2022 02:21 | 3.9K | |
![]() | checksrc-summary.dcf | 20-Oct-2022 02:21 | 445 | |
![]() | install-out.txt | 20-Oct-2022 02:21 | 971 | |
![]() | install-summary.dcf | 20-Oct-2022 02:21 | 267 | |