![]() | Name | Last modified | Size | Description |
---|---|---|---|---|
![]() | Parent Directory | - | ||
![]() | install-summary.dcf | 20-Oct-2022 02:22 | 268 | |
![]() | install-out.txt | 20-Oct-2022 02:22 | 1.0K | |
![]() | buildsrc-out.txt | 20-Oct-2022 02:22 | 878 | |
![]() | buildsrc-summary.dcf | 20-Oct-2022 02:22 | 425 | |
![]() | checksrc-out.txt | 20-Oct-2022 02:22 | 4.1K | |
![]() | checksrc-summary.dcf | 20-Oct-2022 02:22 | 442 | |
![]() | buildbin-out.txt | 20-Oct-2022 02:22 | 1.1K | |
![]() | buildbin-summary.dcf | 20-Oct-2022 02:22 | 526 | |