Index of /checkResults/3.15/bioc-LATEST/diffUTR/raw-results
Name
Last modified
Size
Description
Parent Directory
-
merida1/
20-Oct-2022 02:22
-
nebbiolo1/
20-Oct-2022 02:20
-
palomino3/
20-Oct-2022 02:21
-
riesling1/
19-Mar-2022 00:07
-
info.dcf
20-Oct-2022 02:22
287