Name | Last modified | Size | Description | |
---|---|---|---|---|
Parent Directory | - | |||
buildbin-out.txt | 20-Oct-2022 02:21 | 8.5K | ||
buildbin-summary.dcf | 20-Oct-2022 02:21 | 515 | ||
buildsrc-out.txt | 20-Oct-2022 02:21 | 871 | ||
buildsrc-summary.dcf | 20-Oct-2022 02:21 | 452 | ||
checksrc-out.txt | 20-Oct-2022 02:21 | 4.8K | ||
checksrc-summary.dcf | 20-Oct-2022 02:21 | 447 | ||
install-out.txt | 20-Oct-2022 02:21 | 8.4K | ||
install-summary.dcf | 20-Oct-2022 02:21 | 269 | ||