Index of /checkResults/3.15/bioc-LATEST/diffHic/raw-results/palomino3

[ICO]NameLast modifiedSizeDescription

[DIR]Parent Directory  -  
[TXT]buildbin-out.txt04-Aug-2022 02:21 8.5K 
[   ]buildbin-summary.dcf04-Aug-2022 02:21 515  
[TXT]buildsrc-out.txt04-Aug-2022 02:21 871  
[   ]buildsrc-summary.dcf04-Aug-2022 02:21 452  
[TXT]checksrc-out.txt04-Aug-2022 02:21 4.8K 
[   ]checksrc-summary.dcf04-Aug-2022 02:21 447  
[TXT]install-out.txt04-Aug-2022 02:21 8.4K 
[   ]install-summary.dcf04-Aug-2022 02:21 269