Index of /checkResults/3.15/bioc-LATEST/diffHic/raw-results/merida1

[ICO]NameLast modifiedSizeDescription

[DIR]Parent Directory  -  
[TXT]buildbin-out.txt11-Aug-2022 04:40 9.4K 
[   ]buildbin-summary.dcf11-Aug-2022 04:40 531  
[TXT]buildsrc-out.txt11-Aug-2022 04:40 846  
[   ]buildsrc-summary.dcf11-Aug-2022 04:40 428  
[TXT]checksrc-out.txt11-Aug-2022 04:40 4.9K 
[   ]checksrc-summary.dcf11-Aug-2022 04:40 444  
[TXT]install-out.txt11-Aug-2022 04:40 8.5K 
[   ]install-summary.dcf11-Aug-2022 04:40 270