![]() | Name | Last modified | Size | Description |
---|---|---|---|---|
![]() | Parent Directory | - | ||
![]() | install-summary.dcf | 19-Mar-2022 00:07 | 280 | |
![]() | install-out.txt | 19-Mar-2022 00:07 | 1.5K | |
![]() | checksrc-summary.dcf | 19-Mar-2022 00:07 | 471 | |
![]() | checksrc-out.txt | 19-Mar-2022 00:07 | 3.2K | |
![]() | buildsrc-summary.dcf | 19-Mar-2022 00:07 | 477 | |
![]() | buildsrc-out.txt | 19-Mar-2022 00:07 | 906 | |
![]() | buildbin-summary.dcf | 19-Mar-2022 00:07 | 551 | |
![]() | buildbin-out.txt | 19-Mar-2022 00:07 | 1.4K | |