![]() | Name | Last modified | Size | Description |
---|---|---|---|---|
![]() | Parent Directory | - | ||
![]() | install-summary.dcf | 20-Oct-2022 02:21 | 280 | |
![]() | install-out.txt | 20-Oct-2022 02:21 | 1.0K | |
![]() | checksrc-summary.dcf | 20-Oct-2022 02:21 | 471 | |
![]() | checksrc-out.txt | 20-Oct-2022 02:21 | 3.2K | |
![]() | buildsrc-summary.dcf | 20-Oct-2022 02:21 | 477 | |
![]() | buildsrc-out.txt | 20-Oct-2022 02:21 | 906 | |
![]() | buildbin-summary.dcf | 20-Oct-2022 02:21 | 551 | |
![]() | buildbin-out.txt | 20-Oct-2022 02:21 | 1.1K | |