![]() | Name | Last modified | Size | Description |
---|---|---|---|---|
![]() | Parent Directory | - | ||
![]() | install-summary.dcf | 20-Oct-2022 02:22 | 285 | |
![]() | buildsrc-summary.dcf | 20-Oct-2022 02:22 | 452 | |
![]() | checksrc-summary.dcf | 20-Oct-2022 02:22 | 476 | |
![]() | buildbin-summary.dcf | 20-Oct-2022 02:22 | 578 | |
![]() | buildsrc-out.txt | 20-Oct-2022 02:22 | 848 | |
![]() | install-out.txt | 20-Oct-2022 02:22 | 1.0K | |
![]() | buildbin-out.txt | 20-Oct-2022 02:22 | 1.2K | |
![]() | checksrc-out.txt | 20-Oct-2022 02:22 | 3.6K | |