Name | Last modified | Size | Description | |
---|---|---|---|---|
Parent Directory | - | |||
buildsrc-summary.dcf | 20-Oct-2022 02:22 | 336 | ||
buildsrc-out.txt | 20-Oct-2022 02:22 | 6.2K | ||
install-summary.dcf | 20-Oct-2022 02:22 | 261 | ||
install-out.txt | 20-Oct-2022 02:22 | 1.1K | ||
buildbin-summary.dcf | 11-Oct-2022 02:22 | 505 | ||
buildbin-out.txt | 11-Oct-2022 02:22 | 1.2K | ||
checksrc-summary.dcf | 11-Oct-2022 02:22 | 428 | ||
checksrc-out.txt | 11-Oct-2022 02:22 | 3.6K | ||