![]() | Name | Last modified | Size | Description |
---|---|---|---|---|
![]() | Parent Directory | - | ||
![]() | install-summary.dcf | 20-Oct-2022 02:21 | 265 | |
![]() | checksrc-summary.dcf | 20-Oct-2022 02:21 | 442 | |
![]() | buildsrc-summary.dcf | 20-Oct-2022 02:21 | 458 | |
![]() | buildbin-summary.dcf | 20-Oct-2022 02:21 | 505 | |
![]() | install-out.txt | 20-Oct-2022 02:21 | 862 | |
![]() | buildsrc-out.txt | 20-Oct-2022 02:21 | 922 | |
![]() | buildbin-out.txt | 20-Oct-2022 02:21 | 1.0K | |
![]() | checksrc-out.txt | 20-Oct-2022 02:21 | 4.9K | |