![]() | Name | Last modified | Size | Description |
---|---|---|---|---|
![]() | Parent Directory | - | ||
![]() | buildsrc-out.txt | 20-Oct-2022 02:20 | 801 | |
![]() | buildsrc-summary.dcf | 20-Oct-2022 02:20 | 413 | |
![]() | checksrc-out.txt | 20-Oct-2022 02:20 | 4.9K | |
![]() | checksrc-summary.dcf | 20-Oct-2022 02:20 | 418 | |
![]() | install-out.txt | 20-Oct-2022 02:20 | 847 | |
![]() | install-summary.dcf | 20-Oct-2022 02:20 | 256 | |