![]() | Name | Last modified | Size | Description |
---|---|---|---|---|
![]() | Parent Directory | - | ||
![]() | install-summary.dcf | 20-Oct-2022 02:22 | 266 | |
![]() | install-out.txt | 20-Oct-2022 02:22 | 880 | |
![]() | checksrc-summary.dcf | 20-Oct-2022 02:22 | 439 | |
![]() | checksrc-out.txt | 20-Oct-2022 02:22 | 4.9K | |
![]() | buildsrc-summary.dcf | 20-Oct-2022 02:22 | 423 | |
![]() | buildsrc-out.txt | 20-Oct-2022 02:22 | 811 | |
![]() | buildbin-summary.dcf | 20-Oct-2022 02:22 | 521 | |
![]() | buildbin-out.txt | 20-Oct-2022 02:22 | 1.0K | |