![]() | Name | Last modified | Size | Description |
---|---|---|---|---|
![]() | Parent Directory | - | ||
![]() | install-summary.dcf | 20-Oct-2022 02:21 | 273 | |
![]() | checksrc-summary.dcf | 20-Oct-2022 02:21 | 458 | |
![]() | buildsrc-summary.dcf | 20-Oct-2022 02:21 | 463 | |
![]() | buildbin-summary.dcf | 20-Oct-2022 02:21 | 530 | |
![]() | buildsrc-out.txt | 20-Oct-2022 02:21 | 913 | |
![]() | install-out.txt | 20-Oct-2022 02:21 | 1.0K | |
![]() | buildbin-out.txt | 20-Oct-2022 02:21 | 1.1K | |
![]() | checksrc-out.txt | 20-Oct-2022 02:21 | 3.2K | |