![]() | Name | Last modified | Size | Description |
---|---|---|---|---|
![]() | Parent Directory | - | ||
![]() | install-summary.dcf | 20-Oct-2022 02:20 | 264 | |
![]() | buildsrc-summary.dcf | 20-Oct-2022 02:20 | 423 | |
![]() | checksrc-summary.dcf | 20-Oct-2022 02:20 | 434 | |
![]() | buildsrc-out.txt | 20-Oct-2022 02:20 | 880 | |
![]() | install-out.txt | 20-Oct-2022 02:20 | 964 | |
![]() | checksrc-out.txt | 20-Oct-2022 02:20 | 3.1K | |