![]() | Name | Last modified | Size | Description |
---|---|---|---|---|
![]() | Parent Directory | - | ||
![]() | buildbin-out.txt | 19-Mar-2022 00:07 | 1.6K | |
![]() | buildbin-summary.dcf | 19-Mar-2022 00:07 | 506 | |
![]() | buildsrc-out.txt | 19-Mar-2022 00:07 | 833 | |
![]() | buildsrc-summary.dcf | 19-Mar-2022 00:07 | 447 | |
![]() | checksrc-out.txt | 19-Mar-2022 00:07 | 3.1K | |
![]() | checksrc-summary.dcf | 19-Mar-2022 00:07 | 441 | |
![]() | install-out.txt | 19-Mar-2022 00:07 | 1.6K | |
![]() | install-summary.dcf | 19-Mar-2022 00:07 | 265 | |