Name | Last modified | Size | Description | |
---|---|---|---|---|
Parent Directory | - | |||
buildbin-out.txt | 19-Mar-2022 00:09 | 1.6K | ||
buildbin-summary.dcf | 19-Mar-2022 00:09 | 505 | ||
buildsrc-out.txt | 20-Oct-2022 02:21 | 4.0K | ||
buildsrc-summary.dcf | 20-Oct-2022 02:21 | 364 | ||
checksrc-out.txt | 19-Mar-2022 00:09 | 3.0K | ||
checksrc-summary.dcf | 19-Mar-2022 00:09 | 441 | ||
install-out.txt | 20-Oct-2022 02:21 | 959 | ||
install-summary.dcf | 20-Oct-2022 02:21 | 265 | ||