![]() | Name | Last modified | Size | Description |
---|---|---|---|---|
![]() | Parent Directory | - | ||
![]() | buildsrc-out.txt | 20-Oct-2022 02:20 | 3.8K | |
![]() | buildsrc-summary.dcf | 20-Oct-2022 02:20 | 330 | |
![]() | checksrc-out.txt | 19-Mar-2022 00:05 | 3.0K | |
![]() | checksrc-summary.dcf | 19-Mar-2022 00:05 | 418 | |
![]() | install-out.txt | 20-Oct-2022 02:20 | 944 | |
![]() | install-summary.dcf | 20-Oct-2022 02:20 | 256 | |