Name | Last modified | Size | Description | |
---|---|---|---|---|
Parent Directory | - | |||
install-summary.dcf | 20-Oct-2022 02:22 | 266 | ||
buildsrc-summary.dcf | 20-Oct-2022 02:22 | 341 | ||
checksrc-summary.dcf | 19-Mar-2022 00:11 | 438 | ||
buildbin-summary.dcf | 19-Mar-2022 00:11 | 520 | ||
install-out.txt | 20-Oct-2022 02:22 | 1.0K | ||
buildbin-out.txt | 19-Mar-2022 00:11 | 1.1K | ||
checksrc-out.txt | 19-Mar-2022 00:11 | 3.4K | ||
buildsrc-out.txt | 20-Oct-2022 02:22 | 3.8K | ||