![]() | Name | Last modified | Size | Description |
---|---|---|---|---|
![]() | Parent Directory | - | ||
![]() | buildbin-out.txt | 19-Mar-2022 00:11 | 1.1K | |
![]() | buildbin-summary.dcf | 19-Mar-2022 00:11 | 520 | |
![]() | buildsrc-out.txt | 20-Oct-2022 02:22 | 3.8K | |
![]() | buildsrc-summary.dcf | 20-Oct-2022 02:22 | 341 | |
![]() | checksrc-out.txt | 19-Mar-2022 00:11 | 3.4K | |
![]() | checksrc-summary.dcf | 19-Mar-2022 00:11 | 438 | |
![]() | install-out.txt | 20-Oct-2022 02:22 | 1.0K | |
![]() | install-summary.dcf | 20-Oct-2022 02:22 | 266 | |