Name | Last modified | Size | Description | |
---|---|---|---|---|
Parent Directory | - | |||
checksrc-summary.dcf | 20-Oct-2022 02:20 | 412 | ||
checksrc-out.txt | 20-Oct-2022 02:20 | 4.4K | ||
buildsrc-summary.dcf | 20-Oct-2022 02:20 | 407 | ||
buildsrc-out.txt | 20-Oct-2022 02:20 | 1.1K | ||
install-summary.dcf | 20-Oct-2022 02:20 | 253 | ||
install-out.txt | 20-Oct-2022 02:20 | 8.0K | ||