![]() | Name | Last modified | Size | Description |
---|---|---|---|---|
![]() | Parent Directory | - | ||
![]() | buildsrc-out.txt | 11-Aug-2022 04:39 | 1.1K | |
![]() | buildsrc-summary.dcf | 11-Aug-2022 04:39 | 407 | |
![]() | checksrc-out.txt | 11-Aug-2022 04:39 | 4.4K | |
![]() | checksrc-summary.dcf | 11-Aug-2022 04:39 | 412 | |
![]() | install-out.txt | 11-Aug-2022 04:39 | 8.0K | |
![]() | install-summary.dcf | 11-Aug-2022 04:39 | 253 | |